BEGIN:VCALENDAR
VERSION:2.0
PRODID:-//August Quarterly - ECPv6.15.17//NONSGML v1.0//EN
CALSCALE:GREGORIAN
METHOD:PUBLISH
X-WR-CALNAME:August Quarterly
X-ORIGINAL-URL:https://augustquarterly.org
X-WR-CALDESC:Events for August Quarterly
REFRESH-INTERVAL;VALUE=DURATION:PT1H
X-Robots-Tag:noindex
X-PUBLISHED-TTL:PT1H
BEGIN:VTIMEZONE
TZID:UTC
BEGIN:STANDARD
TZOFFSETFROM:+0000
TZOFFSETTO:+0000
TZNAME:UTC
DTSTART:20250101T000000
END:STANDARD
END:VTIMEZONE
BEGIN:VEVENT
DTSTART;TZID=UTC:20260830T093000
DTEND;TZID=UTC:20260830T130000
DTSTAMP:20260420T081541
CREATED:20250722T115444Z
LAST-MODIFIED:20260314T155213Z
UID:1463-1788082200-1788094800@augustquarterly.org
SUMMARY:AQ Worship Service
DESCRIPTION:August Quarterly Worship Service\n\nDate: Sunday\, August 30\, 2026\, 9:30 am\nLocation: TBD\n\nSpecial Guest: TBD
URL:https://augustquarterly.org/event/aq-worship-service/
ATTACH;FMTTYPE=image/jpeg:https://augustquarterly.org/wp-content/uploads/2025/10/AQ-08-31-25-Chase-Center-and-Riverfront-image186-scaled.jpg
END:VEVENT
BEGIN:VEVENT
DTSTART;TZID=UTC:20260830T130000
DTEND;TZID=UTC:20260830T190000
DTSTAMP:20260420T081541
CREATED:20240413T165652Z
LAST-MODIFIED:20251028T203210Z
UID:211-1788094800-1788116400@augustquarterly.org
SUMMARY:The Big Quarterly
DESCRIPTION:Join us on August 30th from 12:00 pm to 7:00 pm at Tubman-Garrett Riverfront Park. \nLocal\, regional\, and nationally known gospel groups all day long. Cultural vending featuring food and goods. Children’s area with youth-related attractions. Experience the tradition of the “Big Quarterly Celebration.”
URL:https://augustquarterly.org/event/the-big-quarterly/
LOCATION:Tubman-Garrett Riverfront Park\, Rosa Park Dr. and Market St.\, Wilmington\, DE\, 19801\, United States
CATEGORIES:Gospel Concert
ATTACH;FMTTYPE=image/jpeg:https://augustquarterly.org/wp-content/uploads/2024/04/AQ-08-31-25-Chase-Center-and-Riverfront-image395-scaled.jpg
END:VEVENT
END:VCALENDAR