BEGIN:VCALENDAR
VERSION:2.0
PRODID:-//August Quarterly - ECPv6.15.17//NONSGML v1.0//EN
CALSCALE:GREGORIAN
METHOD:PUBLISH
X-ORIGINAL-URL:https://augustquarterly.org
X-WR-CALDESC:Events for August Quarterly
REFRESH-INTERVAL;VALUE=DURATION:PT1H
X-Robots-Tag:noindex
X-PUBLISHED-TTL:PT1H
BEGIN:VTIMEZONE
TZID:UTC
BEGIN:STANDARD
TZOFFSETFROM:+0000
TZOFFSETTO:+0000
TZNAME:UTC
DTSTART:20250101T000000
END:STANDARD
END:VTIMEZONE
BEGIN:VEVENT
DTSTART;TZID=UTC:20260823T100000
DTEND;TZID=UTC:20260823T130000
DTSTAMP:20260420T081833
CREATED:20240413T164225Z
LAST-MODIFIED:20260314T155444Z
UID:193-1787479200-1787490000@augustquarterly.org
SUMMARY:AQ Opening Worship Service
DESCRIPTION:August Quarterly Opening Worship Service\n\nDate: Sunday\, August 23\, 2026\, 10:00 am\nLocation: TBD\n\nGuest Preacher: TBD\n 
URL:https://augustquarterly.org/event/aq-opening-worship-service/
ATTACH;FMTTYPE=image/jpeg:https://augustquarterly.org/wp-content/uploads/2024/04/AQ-25-Revivial-and-wreath-image072-scaled.jpg
END:VEVENT
BEGIN:VEVENT
DTSTART;TZID=UTC:20260823T133000
DTEND;TZID=UTC:20260823T143000
DTSTAMP:20260420T081833
CREATED:20240413T164627Z
LAST-MODIFIED:20251028T203856Z
UID:197-1787491800-1787495400@augustquarterly.org
SUMMARY:Wreath Laying Ceremony Honoring Rev. Peter Spencer
DESCRIPTION:August Quarterly Wreath Laying Ceremony\nDate: Sunday\, August 23\, 2026\n    (Immediately following Opening Worship Service\, approx.\, 1:30 pm)\nLocation:  Peter Spencer Plaza\, 800 N. French Street\, Wilmington\, DE 19801
URL:https://augustquarterly.org/event/wreath-laying-ceremony-in-honor-of-rev-peter-spencer/
LOCATION:Peter Spencer Plaza – Rev. Peter Spencer Way\, 800 N. French Street\, Wilmington\, DE\, 19801\, United States
ATTACH;FMTTYPE=image/jpeg:https://augustquarterly.org/wp-content/uploads/2024/04/Wreath-Laying-scaled.jpg
END:VEVENT
END:VCALENDAR